BEGIN:VCALENDAR
VERSION:2.0
PRODID:-// Capital High School - ECPv6.15.20//NONSGML v1.0//EN
CALSCALE:GREGORIAN
METHOD:PUBLISH
X-ORIGINAL-URL:https://chs.helenaschools.org
X-WR-CALDESC:Events for  Capital High School
REFRESH-INTERVAL;VALUE=DURATION:PT1H
X-Robots-Tag:noindex
X-PUBLISHED-TTL:PT1H
BEGIN:VTIMEZONE
TZID:America/Denver
BEGIN:DAYLIGHT
TZOFFSETFROM:-0700
TZOFFSETTO:-0600
TZNAME:MDT
DTSTART:20200308T090000
END:DAYLIGHT
BEGIN:STANDARD
TZOFFSETFROM:-0600
TZOFFSETTO:-0700
TZNAME:MST
DTSTART:20201101T080000
END:STANDARD
BEGIN:DAYLIGHT
TZOFFSETFROM:-0700
TZOFFSETTO:-0600
TZNAME:MDT
DTSTART:20210314T090000
END:DAYLIGHT
BEGIN:STANDARD
TZOFFSETFROM:-0600
TZOFFSETTO:-0700
TZNAME:MST
DTSTART:20211107T080000
END:STANDARD
BEGIN:DAYLIGHT
TZOFFSETFROM:-0700
TZOFFSETTO:-0600
TZNAME:MDT
DTSTART:20220313T090000
END:DAYLIGHT
BEGIN:STANDARD
TZOFFSETFROM:-0600
TZOFFSETTO:-0700
TZNAME:MST
DTSTART:20221106T080000
END:STANDARD
END:VTIMEZONE
BEGIN:VEVENT
DTSTART;TZID=America/Denver:20210511T160000
DTEND;TZID=America/Denver:20210511T190000
DTSTAMP:20260422T082605
CREATED:20201123T163442Z
LAST-MODIFIED:20210107T021430Z
UID:22877-1620748800-1620759600@chs.helenaschools.org
SUMMARY:Crosstown Tennis
DESCRIPTION:
URL:https://chs.helenaschools.org/event/crosstown-tennis-2/
LOCATION:Lockey Park\, 1720 Lockey Ave.\, Helena\, MT\, 59601\, United States
CATEGORIES:Activities,Capital High School Activities,Capital High Tennis,Helena High Activities,Helena High Tennis
END:VEVENT
BEGIN:VEVENT
DTSTART;TZID=America/Denver:20210508T110000
DTEND;TZID=America/Denver:20210508T160000
DTSTAMP:20260422T082605
CREATED:20201215T004544Z
LAST-MODIFIED:20210107T021429Z
UID:25828-1620471600-1620489600@chs.helenaschools.org
SUMMARY:HHS Tennis v. Billings and Butte
DESCRIPTION:
URL:https://chs.helenaschools.org/event/hhs-tennis-v-billings-and-butte/
LOCATION:Lockey Park\, 1720 Lockey Ave.\, Helena\, MT\, 59601\, United States
CATEGORIES:Activities,Helena High Activities,Helena High Tennis
END:VEVENT
BEGIN:VEVENT
DTSTART;TZID=America/Denver:20210403T120000
DTEND;TZID=America/Denver:20210403T150000
DTSTAMP:20260422T082605
CREATED:20201215T004540Z
LAST-MODIFIED:20210107T021425Z
UID:25814-1617451200-1617462000@chs.helenaschools.org
SUMMARY:HHS Tennis v. Glacier and Flathead
DESCRIPTION:
URL:https://chs.helenaschools.org/event/hhs-tennis-v-glacier-and-flathead/
LOCATION:Lockey Park\, 1720 Lockey Ave.\, Helena\, MT\, 59601\, United States
CATEGORIES:Activities,Helena High Activities,Helena High Tennis
END:VEVENT
END:VCALENDAR