BEGIN:VCALENDAR
VERSION:2.0
PRODID:-// Capital High School - ECPv6.15.20//NONSGML v1.0//EN
CALSCALE:GREGORIAN
METHOD:PUBLISH
X-ORIGINAL-URL:https://chs.helenaschools.org
X-WR-CALDESC:Events for  Capital High School
REFRESH-INTERVAL;VALUE=DURATION:PT1H
X-Robots-Tag:noindex
X-PUBLISHED-TTL:PT1H
BEGIN:VTIMEZONE
TZID:America/Denver
BEGIN:DAYLIGHT
TZOFFSETFROM:-0700
TZOFFSETTO:-0600
TZNAME:MDT
DTSTART:20250309T090000
END:DAYLIGHT
BEGIN:STANDARD
TZOFFSETFROM:-0600
TZOFFSETTO:-0700
TZNAME:MST
DTSTART:20251102T080000
END:STANDARD
BEGIN:DAYLIGHT
TZOFFSETFROM:-0700
TZOFFSETTO:-0600
TZNAME:MDT
DTSTART:20260308T090000
END:DAYLIGHT
BEGIN:STANDARD
TZOFFSETFROM:-0600
TZOFFSETTO:-0700
TZNAME:MST
DTSTART:20261101T080000
END:STANDARD
BEGIN:DAYLIGHT
TZOFFSETFROM:-0700
TZOFFSETTO:-0600
TZNAME:MDT
DTSTART:20270314T090000
END:DAYLIGHT
BEGIN:STANDARD
TZOFFSETFROM:-0600
TZOFFSETTO:-0700
TZNAME:MST
DTSTART:20271107T080000
END:STANDARD
END:VTIMEZONE
BEGIN:VEVENT
DTSTART;TZID=America/Denver:20260317T080000
DTEND;TZID=America/Denver:20260320T170000
DTSTAMP:20260420T203444
CREATED:20260109T195742Z
LAST-MODIFIED:20260109T195742Z
UID:31754-1773734400-1774026000@chs.helenaschools.org
SUMMARY:Class of 2030 Registration
DESCRIPTION:3/17: Registration presentations and CHS tours (8AM-12) \n\n\n3/17: CHS Counselors @ CRA parent teacher conf. (3:30-6PM) \n\n\n3/18: Incoming Frosh/Parent night @ CHS auditorium (6PM) \n\n\n3/19: CHS Counselors @ CRA parent teacher conf. (3:30-6PM) \n\n\n3/20: Registration paperwork due to CRA 1st period teachers
URL:https://chs.helenaschools.org/event/class-of-2030-registration/
END:VEVENT
BEGIN:VEVENT
DTSTART;TZID=America/Denver:20260319T120000
DTEND;TZID=America/Denver:20260319T120000
DTSTAMP:20260420T203444
CREATED:20260309T173230Z
LAST-MODIFIED:20260310T161411Z
UID:31959-1773921600-1773921600@chs.helenaschools.org
SUMMARY:University of Montana & Missoula College Visit
DESCRIPTION:During lunch in counseling center
URL:https://chs.helenaschools.org/event/university-of-montana-missoula-college-visit/
END:VEVENT
BEGIN:VEVENT
DTSTART;TZID=America/Denver:20260319T120000
DTEND;TZID=America/Denver:20260319T130000
DTSTAMP:20260420T203444
CREATED:20260309T173338Z
LAST-MODIFIED:20260310T161304Z
UID:31960-1773921600-1773925200@chs.helenaschools.org
SUMMARY:MSU-B College Visit
DESCRIPTION:during lunch @ Office conference room
URL:https://chs.helenaschools.org/event/msu-b-college-visit/
END:VEVENT
BEGIN:VEVENT
DTSTART;TZID=America/Denver:20260324T120000
DTEND;TZID=America/Denver:20260324T130000
DTSTAMP:20260420T203444
CREATED:20260309T173440Z
LAST-MODIFIED:20260309T173440Z
UID:31961-1774353600-1774357200@chs.helenaschools.org
SUMMARY:Flathead Valley Community College Visit
DESCRIPTION:During lunch @ Counseling center conference room
URL:https://chs.helenaschools.org/event/flathead-valley-community-college-visit/
END:VEVENT
BEGIN:VEVENT
DTSTART;VALUE=DATE:20260327
DTEND;VALUE=DATE:20260328
DTSTAMP:20260420T203444
CREATED:20251113T204604Z
LAST-MODIFIED:20251113T204604Z
UID:31477-1774569600-1774655999@chs.helenaschools.org
SUMMARY:End of 3rd Quarter
DESCRIPTION:
URL:https://chs.helenaschools.org/event/end-of-3rd-quarter/
END:VEVENT
BEGIN:VEVENT
DTSTART;VALUE=DATE:20260330
DTEND;VALUE=DATE:20260404
DTSTAMP:20260420T203444
CREATED:20251113T204642Z
LAST-MODIFIED:20251113T204642Z
UID:31478-1774828800-1775260799@chs.helenaschools.org
SUMMARY:Spring Break - No School
DESCRIPTION:
URL:https://chs.helenaschools.org/event/spring-break-no-school/
END:VEVENT
BEGIN:VEVENT
DTSTART;TZID=America/Denver:20260331T150000
DTEND;TZID=America/Denver:20260331T190000
DTSTAMP:20260420T203444
CREATED:20260324T185633Z
LAST-MODIFIED:20260324T185633Z
UID:32092-1774969200-1774983600@chs.helenaschools.org
SUMMARY:CHS Softball vs. Bozeman @ Home
DESCRIPTION:JV @ 3:00 \nVarsity @ 5PM \n@ NW Field
URL:https://chs.helenaschools.org/event/chs-softball-vs-bozeman-home/
END:VEVENT
BEGIN:VEVENT
DTSTART;TZID=America/Denver:20260403T150000
DTEND;TZID=America/Denver:20260403T190000
DTSTAMP:20260420T203444
CREATED:20260324T185730Z
LAST-MODIFIED:20260324T185730Z
UID:32093-1775228400-1775242800@chs.helenaschools.org
SUMMARY:CHS Softball vs. Sentinel @ HOME
DESCRIPTION:JV @ 3PM \nVarsity @ 5PM \n@ NW Field
URL:https://chs.helenaschools.org/event/chs-softball-vs-sentinel-home/
END:VEVENT
BEGIN:VEVENT
DTSTART;VALUE=DATE:20260406
DTEND;VALUE=DATE:20260407
DTSTAMP:20260420T203444
CREATED:20251113T204709Z
LAST-MODIFIED:20251113T204709Z
UID:31479-1775433600-1775519999@chs.helenaschools.org
SUMMARY:4th Quarter Begins
DESCRIPTION:
URL:https://chs.helenaschools.org/event/4th-quarter-begins-2/
END:VEVENT
BEGIN:VEVENT
DTSTART;VALUE=DATE:20260408
DTEND;VALUE=DATE:20260409
DTSTAMP:20260420T203444
CREATED:20260109T191104Z
LAST-MODIFIED:20260302T212327Z
UID:31750-1775606400-1775692799@chs.helenaschools.org
SUMMARY:ACT's @ CHS
DESCRIPTION:All juniors – \nStudent check-in time: 7:30AM
URL:https://chs.helenaschools.org/event/acts-chs/
END:VEVENT
BEGIN:VEVENT
DTSTART;TZID=America/Denver:20260408T083000
DTEND;TZID=America/Denver:20260408T170000
DTSTAMP:20260420T203444
CREATED:20260302T212420Z
LAST-MODIFIED:20260302T212420Z
UID:31918-1775637000-1775667600@chs.helenaschools.org
SUMMARY:PreACT's @ CHS
DESCRIPTION:All sophomores – \nTesting will be in gym \nStudent check in time – TBD
URL:https://chs.helenaschools.org/event/preacts-chs/
END:VEVENT
BEGIN:VEVENT
DTSTART;VALUE=DATE:20260410
DTEND;VALUE=DATE:20260411
DTSTAMP:20260420T203444
CREATED:20251113T205859Z
LAST-MODIFIED:20260406T151454Z
UID:31482-1775779200-1775865599@chs.helenaschools.org
SUMMARY:District Music Festival @ HHS/HMS
DESCRIPTION:CHS Band/Orchestra @ HHS\nCHS Choir @ HMS
URL:https://chs.helenaschools.org/event/district-music-festival-hhs-hms-helena-bozeman/
END:VEVENT
BEGIN:VEVENT
DTSTART;VALUE=DATE:20260411
DTEND;VALUE=DATE:20260412
DTSTAMP:20260420T203444
CREATED:20260406T151555Z
LAST-MODIFIED:20260406T151642Z
UID:32250-1775865600-1775951999@chs.helenaschools.org
SUMMARY:District Music Festival @ Gallatin High
DESCRIPTION:CHS Band\, Choir\, & Orchestra @ Gallatin High School
URL:https://chs.helenaschools.org/event/district-music-festival-gallatin-high/
END:VEVENT
BEGIN:VEVENT
DTSTART;TZID=America/Denver:20260414T160000
DTEND;TZID=America/Denver:20260414T200000
DTSTAMP:20260420T203444
CREATED:20260127T164426Z
LAST-MODIFIED:20260127T164426Z
UID:31833-1776182400-1776196800@chs.helenaschools.org
SUMMARY:Varsity Tennis XTOWN @ HOME
DESCRIPTION:
URL:https://chs.helenaschools.org/event/varsity-tennis-xtown-home/
END:VEVENT
BEGIN:VEVENT
DTSTART;TZID=America/Denver:20260416T180000
DTEND;TZID=America/Denver:20260416T200000
DTSTAMP:20260420T203444
CREATED:20251113T210338Z
LAST-MODIFIED:20260302T204800Z
UID:31483-1776362400-1776369600@chs.helenaschools.org
SUMMARY:CHS Drama Spring Production - Cash on Delivery
DESCRIPTION:CHS Drama Troupe will perform Cash on Delivery\, a British Farce guaranteed to make you laugh! \nRun dates – April 16th – 18th & April 23rd-25th – all show will begin at 6pm \nTickets are $8 for students/seniors\, and $10 for adults.
URL:https://chs.helenaschools.org/event/chs-drama-spring-production-tbd/2026-04-16/
END:VEVENT
BEGIN:VEVENT
DTSTART;TZID=America/Denver:20260417T100000
DTEND;TZID=America/Denver:20260417T170000
DTSTAMP:20260420T203444
CREATED:20260127T164502Z
LAST-MODIFIED:20260127T164524Z
UID:31834-1776420000-1776445200@chs.helenaschools.org
SUMMARY:Varsity Tennis @ HOME vs. Gallatin & Bozeman
DESCRIPTION:
URL:https://chs.helenaschools.org/event/varsity-tennis-home-vs-gallatin-high/
END:VEVENT
BEGIN:VEVENT
DTSTART;TZID=America/Denver:20260417T180000
DTEND;TZID=America/Denver:20260417T200000
DTSTAMP:20260420T203444
CREATED:20251113T210338Z
LAST-MODIFIED:20260302T204800Z
UID:31484-1776448800-1776456000@chs.helenaschools.org
SUMMARY:CHS Drama Spring Production - Cash on Delivery
DESCRIPTION:CHS Drama Troupe will perform Cash on Delivery\, a British Farce guaranteed to make you laugh! \nRun dates – April 16th – 18th & April 23rd-25th – all show will begin at 6pm \nTickets are $8 for students/seniors\, and $10 for adults.
URL:https://chs.helenaschools.org/event/chs-drama-spring-production-tbd/2026-04-17/
END:VEVENT
BEGIN:VEVENT
DTSTART;TZID=America/Denver:20260418T180000
DTEND;TZID=America/Denver:20260418T200000
DTSTAMP:20260420T203444
CREATED:20251113T210338Z
LAST-MODIFIED:20260302T204800Z
UID:31485-1776535200-1776542400@chs.helenaschools.org
SUMMARY:CHS Drama Spring Production - Cash on Delivery
DESCRIPTION:CHS Drama Troupe will perform Cash on Delivery\, a British Farce guaranteed to make you laugh! \nRun dates – April 16th – 18th & April 23rd-25th – all show will begin at 6pm \nTickets are $8 for students/seniors\, and $10 for adults.
URL:https://chs.helenaschools.org/event/chs-drama-spring-production-tbd/2026-04-18/
END:VEVENT
BEGIN:VEVENT
DTSTART;TZID=America/Denver:20260421T150000
DTEND;TZID=America/Denver:20260421T190000
DTSTAMP:20260420T203444
CREATED:20260420T142440Z
LAST-MODIFIED:20260420T142440Z
UID:32291-1776783600-1776798000@chs.helenaschools.org
SUMMARY:CHS Softball @ Great Falls
DESCRIPTION:3:00 vs. CMR \n5:00 vs. Great Falls High School
URL:https://chs.helenaschools.org/event/chs-softball-great-falls/
END:VEVENT
BEGIN:VEVENT
DTSTART;TZID=America/Denver:20260421T153000
DTEND;TZID=America/Denver:20260421T193000
DTSTAMP:20260420T203444
CREATED:20260420T142322Z
LAST-MODIFIED:20260420T142322Z
UID:32290-1776785400-1776799800@chs.helenaschools.org
SUMMARY:Helena Small Schools Track & Field @ HOME
DESCRIPTION:
URL:https://chs.helenaschools.org/event/helena-small-schools-track-field-home/
END:VEVENT
BEGIN:VEVENT
DTSTART;TZID=America/Denver:20260423T150000
DTEND;TZID=America/Denver:20260423T170000
DTSTAMP:20260420T203444
CREATED:20260420T142634Z
LAST-MODIFIED:20260420T142634Z
UID:32293-1776956400-1776963600@chs.helenaschools.org
SUMMARY:CHS Softball @ Belgrade
DESCRIPTION:
URL:https://chs.helenaschools.org/event/chs-softball-belgrade/
END:VEVENT
BEGIN:VEVENT
DTSTART;TZID=America/Denver:20260423T153000
DTEND;TZID=America/Denver:20260423T183000
DTSTAMP:20260420T203444
CREATED:20260420T142535Z
LAST-MODIFIED:20260420T142535Z
UID:32292-1776958200-1776969000@chs.helenaschools.org
SUMMARY:Helena Frosh Track & Field @ HOME
DESCRIPTION:
URL:https://chs.helenaschools.org/event/helena-frosh-track-field-home/
END:VEVENT
BEGIN:VEVENT
DTSTART;TZID=America/Denver:20260423T180000
DTEND;TZID=America/Denver:20260423T200000
DTSTAMP:20260420T203444
CREATED:20251113T210447Z
LAST-MODIFIED:20251113T210447Z
UID:31486-1776967200-1776974400@chs.helenaschools.org
SUMMARY:CHS Spring Production - TBD
DESCRIPTION:Run dates April 16th-18th and 23rd – 25th
URL:https://chs.helenaschools.org/event/chs-spring-production-tbd/2026-04-23/
END:VEVENT
BEGIN:VEVENT
DTSTART;VALUE=DATE:20260424
DTEND;VALUE=DATE:20260425
DTSTAMP:20260420T203444
CREATED:20260420T142811Z
LAST-MODIFIED:20260420T142811Z
UID:32294-1776988800-1777075199@chs.helenaschools.org
SUMMARY:CHS JV Tennis @ Sentinel
DESCRIPTION:@ 10:00 AM
URL:https://chs.helenaschools.org/event/chs-jv-tennis-sentinel/
END:VEVENT
BEGIN:VEVENT
DTSTART;TZID=America/Denver:20260424T180000
DTEND;TZID=America/Denver:20260424T200000
DTSTAMP:20260420T203444
CREATED:20251113T210447Z
LAST-MODIFIED:20251113T210447Z
UID:31487-1777053600-1777060800@chs.helenaschools.org
SUMMARY:CHS Spring Production - TBD
DESCRIPTION:Run dates April 16th-18th and 23rd – 25th
URL:https://chs.helenaschools.org/event/chs-spring-production-tbd/2026-04-24/
END:VEVENT
BEGIN:VEVENT
DTSTART;VALUE=DATE:20260425
DTEND;VALUE=DATE:20260426
DTSTAMP:20260420T203444
CREATED:20260420T142850Z
LAST-MODIFIED:20260420T143039Z
UID:32295-1777075200-1777161599@chs.helenaschools.org
SUMMARY:CHS Tennis @ Missoula (Western AA)
DESCRIPTION:@ 9:00 AM
URL:https://chs.helenaschools.org/event/chs-tennis-missoula-western-aa/
END:VEVENT
BEGIN:VEVENT
DTSTART;VALUE=DATE:20260425
DTEND;VALUE=DATE:20260426
DTSTAMP:20260420T203444
CREATED:20260420T142929Z
LAST-MODIFIED:20260420T142942Z
UID:32296-1777075200-1777161599@chs.helenaschools.org
SUMMARY:CHS Track & Field @ Great Falls
DESCRIPTION:@ 11:00 AM
URL:https://chs.helenaschools.org/event/chs-track-field-great-falls/
END:VEVENT
BEGIN:VEVENT
DTSTART;TZID=America/Denver:20260425T180000
DTEND;TZID=America/Denver:20260425T200000
DTSTAMP:20260420T203444
CREATED:20251113T210447Z
LAST-MODIFIED:20251113T210447Z
UID:31488-1777140000-1777147200@chs.helenaschools.org
SUMMARY:CHS Spring Production - TBD
DESCRIPTION:Run dates April 16th-18th and 23rd – 25th
URL:https://chs.helenaschools.org/event/chs-spring-production-tbd/2026-04-25/
END:VEVENT
BEGIN:VEVENT
DTSTART;VALUE=DATE:20260430
DTEND;VALUE=DATE:20260501
DTSTAMP:20260420T203444
CREATED:20251113T210549Z
LAST-MODIFIED:20251113T210549Z
UID:31489-1777507200-1777593599@chs.helenaschools.org
SUMMARY:Vigilante Workday
DESCRIPTION:
URL:https://chs.helenaschools.org/event/vigilante-workday/
END:VEVENT
BEGIN:VEVENT
DTSTART;VALUE=DATE:20260501
DTEND;VALUE=DATE:20260502
DTSTAMP:20260420T203444
CREATED:20251113T210625Z
LAST-MODIFIED:20260406T174247Z
UID:31490-1777593600-1777679999@chs.helenaschools.org
SUMMARY:Vigilante Parade @ 11:30 - No school for HS Students!
DESCRIPTION:
URL:https://chs.helenaschools.org/event/vigilante-parade-release-1130/
END:VEVENT
END:VCALENDAR