BEGIN:VCALENDAR
VERSION:2.0
PRODID:-// Capital High School - ECPv6.15.20//NONSGML v1.0//EN
CALSCALE:GREGORIAN
METHOD:PUBLISH
X-ORIGINAL-URL:https://chs.helenaschools.org
X-WR-CALDESC:Events for  Capital High School
REFRESH-INTERVAL;VALUE=DURATION:PT1H
X-Robots-Tag:noindex
X-PUBLISHED-TTL:PT1H
BEGIN:VTIMEZONE
TZID:America/Denver
BEGIN:DAYLIGHT
TZOFFSETFROM:-0700
TZOFFSETTO:-0600
TZNAME:MDT
DTSTART:20190310T090000
END:DAYLIGHT
BEGIN:STANDARD
TZOFFSETFROM:-0600
TZOFFSETTO:-0700
TZNAME:MST
DTSTART:20191103T080000
END:STANDARD
BEGIN:DAYLIGHT
TZOFFSETFROM:-0700
TZOFFSETTO:-0600
TZNAME:MDT
DTSTART:20200308T090000
END:DAYLIGHT
BEGIN:STANDARD
TZOFFSETFROM:-0600
TZOFFSETTO:-0700
TZNAME:MST
DTSTART:20201101T080000
END:STANDARD
BEGIN:DAYLIGHT
TZOFFSETFROM:-0700
TZOFFSETTO:-0600
TZNAME:MDT
DTSTART:20210314T090000
END:DAYLIGHT
BEGIN:STANDARD
TZOFFSETFROM:-0600
TZOFFSETTO:-0700
TZNAME:MST
DTSTART:20211107T080000
END:STANDARD
BEGIN:DAYLIGHT
TZOFFSETFROM:-0700
TZOFFSETTO:-0600
TZNAME:MDT
DTSTART:20220313T090000
END:DAYLIGHT
BEGIN:STANDARD
TZOFFSETFROM:-0600
TZOFFSETTO:-0700
TZNAME:MST
DTSTART:20221106T080000
END:STANDARD
END:VTIMEZONE
BEGIN:VEVENT
DTSTART;VALUE=DATE:20210305
DTEND;VALUE=DATE:20210307
DTSTAMP:20260424T031134
CREATED:20201215T004539Z
LAST-MODIFIED:20210107T021424Z
UID:25809-1614902400-1615075199@chs.helenaschools.org
SUMMARY:Wrestling State Tournament
DESCRIPTION:
URL:https://chs.helenaschools.org/event/wrestling-state-tournament-2/
LOCATION:To be Determined\, Helena\, MT\, 59601\, United States
CATEGORIES:Activities,Capital High School Activities,Capital High Wrestling,Helena High Activities,Helena High Wrestling
END:VEVENT
BEGIN:VEVENT
DTSTART;VALUE=DATE:20210225
DTEND;VALUE=DATE:20210226
DTSTAMP:20260424T031134
CREATED:20201215T004538Z
LAST-MODIFIED:20210107T021424Z
UID:25802-1614211200-1614297599@chs.helenaschools.org
SUMMARY:Wrestling State Qualifier
DESCRIPTION:
URL:https://chs.helenaschools.org/event/wrestling-state-qualifier/
LOCATION:Glacier High School\, 375 Wolfpack Way\, Kalispell\, MT\, 59901\, United States
CATEGORIES:Activities,Capital High School Activities,Capital High Wrestling,Helena High Activities,Helena High Wrestling
END:VEVENT
BEGIN:VEVENT
DTSTART;TZID=America/Denver:20210219T190000
DTEND;TZID=America/Denver:20210219T210000
DTSTAMP:20260424T031134
CREATED:20201215T004537Z
LAST-MODIFIED:20210107T021423Z
UID:25795-1613761200-1613768400@chs.helenaschools.org
SUMMARY:HHS Wrestling v. Flathead
DESCRIPTION:JV @ 7pm
URL:https://chs.helenaschools.org/event/hhs-wrestling-v-flathead-2/
LOCATION:Flathead High School\, 644 Fourth Ave. W.\, Kalispell\, MT\, 59901\, United States
CATEGORIES:Activities,Helena High Activities,Helena High Wrestling
END:VEVENT
BEGIN:VEVENT
DTSTART;TZID=America/Denver:20210219T160000
DTEND;TZID=America/Denver:20210219T180000
DTSTAMP:20260424T031134
CREATED:20201215T004537Z
LAST-MODIFIED:20210107T021423Z
UID:25793-1613750400-1613757600@chs.helenaschools.org
SUMMARY:HHS Wrestling v. Glacier
DESCRIPTION:JV @ 4pm
URL:https://chs.helenaschools.org/event/hhs-wrestling-v-glacier-2/
LOCATION:Glacier High School\, 375 Wolfpack Way\, Kalispell\, MT\, 59901\, United States
CATEGORIES:Activities,Helena High Activities,Helena High Wrestling
END:VEVENT
BEGIN:VEVENT
DTSTART;TZID=America/Denver:20210212T190000
DTEND;TZID=America/Denver:20210212T210000
DTSTAMP:20260424T031134
CREATED:20201215T004536Z
LAST-MODIFIED:20210107T021421Z
UID:25782-1613156400-1613163600@chs.helenaschools.org
SUMMARY:HHS Wrestling v. Big Sky
DESCRIPTION:JV @ 7pm
URL:https://chs.helenaschools.org/event/hhs-wrestling-v-big-sky-2/
LOCATION:Helena High School\, 1300 Billings Ave.\, Helena\, 59601
CATEGORIES:Activities,Helena High Activities,Helena High Wrestling
END:VEVENT
BEGIN:VEVENT
DTSTART;TZID=America/Denver:20210212T160000
DTEND;TZID=America/Denver:20210212T180000
DTSTAMP:20260424T031134
CREATED:20201215T004536Z
LAST-MODIFIED:20210107T021421Z
UID:25780-1613145600-1613152800@chs.helenaschools.org
SUMMARY:HHS Wrestling v. Sentinel
DESCRIPTION:JV @ 4pm
URL:https://chs.helenaschools.org/event/hhs-wrestling-v-sentinel-2/
LOCATION:Helena High School\, 1300 Billings Ave.\, Helena\, 59601
CATEGORIES:Activities,Helena High Activities,Helena High Wrestling
END:VEVENT
BEGIN:VEVENT
DTSTART;VALUE=DATE:20210212
DTEND;VALUE=DATE:20210214
DTSTAMP:20260424T031134
CREATED:20201123T163436Z
LAST-MODIFIED:20201123T163436Z
UID:22831-1613088000-1613260799@chs.helenaschools.org
SUMMARY:Wrestling State Tournament
DESCRIPTION:
URL:https://chs.helenaschools.org/event/wrestling-state-tournament/
LOCATION:Billings Metra\, 308 6th Ave. N\, Billings\, MT\, 59101\, United States
CATEGORIES:Activities,Capital High School Activities,Capital High Wrestling,Helena High Activities,Helena High Wrestling
END:VEVENT
BEGIN:VEVENT
DTSTART;TZID=America/Denver:20210208T080000
DTEND;TZID=America/Denver:20210208T170000
DTSTAMP:20260424T031135
CREATED:20201215T004535Z
LAST-MODIFIED:20210107T021420Z
UID:25773-1612771200-1612803600@chs.helenaschools.org
SUMMARY:HHS Wrestling v. Hellgate
DESCRIPTION:JV @ 4pm
URL:https://chs.helenaschools.org/event/hhs-wrestling-v-hellgate-2/
LOCATION:Hellgate High School\, 925 Gerald Ave.\, Missoula\, MT\, 59801\, United States
CATEGORIES:Activities,Helena High Activities,Helena High Wrestling
END:VEVENT
BEGIN:VEVENT
DTSTART;TZID=America/Denver:20210205T190000
DTEND;TZID=America/Denver:20210205T210000
DTSTAMP:20260424T031135
CREATED:20201215T004534Z
LAST-MODIFIED:20210107T021419Z
UID:25765-1612551600-1612558800@chs.helenaschools.org
SUMMARY:HHS Wrestling v. Butte
DESCRIPTION:JV @ 4pm
URL:https://chs.helenaschools.org/event/hhs-wrestling-v-butte-2/
LOCATION:Butte High School\, 401 S Wyoming Ave.\, Butte\, MT\, 59701\, United States
CATEGORIES:Activities,Helena High Activities,Helena High Wrestling
END:VEVENT
BEGIN:VEVENT
DTSTART;TZID=America/Denver:20210205T160000
DTEND;TZID=America/Denver:20210206T170000
DTSTAMP:20260424T031135
CREATED:20201123T163435Z
LAST-MODIFIED:20201123T163435Z
UID:22824-1612540800-1612630800@chs.helenaschools.org
SUMMARY:Wrestling Seeding Tournament at Kalispell
DESCRIPTION:
URL:https://chs.helenaschools.org/event/wrestling-seeding-tournament-at-kalispell/
LOCATION:Kalispell – TBD\, Kalispell\, MT\, 59901\, United States
CATEGORIES:Activities,Capital High School Activities,Capital High Wrestling,Helena High Activities,Helena High Wrestling
END:VEVENT
BEGIN:VEVENT
DTSTART;TZID=America/Denver:20210129T190000
DTEND;TZID=America/Denver:20210129T210000
DTSTAMP:20260424T031135
CREATED:20201215T004533Z
LAST-MODIFIED:20210107T021418Z
UID:25753-1611946800-1611954000@chs.helenaschools.org
SUMMARY:HHS Wrestling v. Flathead
DESCRIPTION:JV @ 7pm
URL:https://chs.helenaschools.org/event/hhs-wrestling-v-flathead/
LOCATION:Helena High School\, 1300 Billings Ave.\, Helena\, 59601
CATEGORIES:Activities,Helena High Activities,Helena High Wrestling
END:VEVENT
BEGIN:VEVENT
DTSTART;TZID=America/Denver:20210129T160000
DTEND;TZID=America/Denver:20210129T180000
DTSTAMP:20260424T031135
CREATED:20201215T004533Z
LAST-MODIFIED:20210107T021418Z
UID:25751-1611936000-1611943200@chs.helenaschools.org
SUMMARY:HHS Wrestling v. Glacier
DESCRIPTION:JV @ 4pm
URL:https://chs.helenaschools.org/event/hhs-wrestling-v-glacier/
LOCATION:Helena High School\, 1300 Billings Ave.\, Helena\, 59601
CATEGORIES:Activities,Helena High Activities,Helena High Wrestling
END:VEVENT
BEGIN:VEVENT
DTSTART;TZID=America/Denver:20210123T190000
DTEND;TZID=America/Denver:20210123T210000
DTSTAMP:20260424T031135
CREATED:20201215T004532Z
LAST-MODIFIED:20210107T021417Z
UID:25745-1611428400-1611435600@chs.helenaschools.org
SUMMARY:Crosstown Wrestling
DESCRIPTION:JV @ 6pm
URL:https://chs.helenaschools.org/event/crosstown-wrestling-5/
LOCATION:Helena High School\, 1300 Billings Ave.\, Helena\, 59601
CATEGORIES:Activities,Capital High School Activities,Capital High Wrestling,Helena High Activities,Helena High Wrestling
END:VEVENT
BEGIN:VEVENT
DTSTART;TZID=America/Denver:20210119T190000
DTEND;TZID=America/Denver:20210119T210000
DTSTAMP:20260424T031135
CREATED:20201123T163433Z
LAST-MODIFIED:20201123T163433Z
UID:22808-1611082800-1611090000@chs.helenaschools.org
SUMMARY:Crosstown Wrestling
DESCRIPTION:JV @ 6:00pm
URL:https://chs.helenaschools.org/event/crosstown-wrestling-2/
LOCATION:Helena High School\, 1300 Billings Ave.\, Helena\, 59601
CATEGORIES:Activities,Capital High School Activities,Capital High Wrestling,Helena High Activities,Helena High Wrestling
END:VEVENT
BEGIN:VEVENT
DTSTART;TZID=America/Denver:20210115T190000
DTEND;TZID=America/Denver:20210115T210000
DTSTAMP:20260424T031135
CREATED:20201215T004531Z
LAST-MODIFIED:20210107T021416Z
UID:25737-1610737200-1610744400@chs.helenaschools.org
SUMMARY:HHS Wrestling v. Big Sky
DESCRIPTION:
URL:https://chs.helenaschools.org/event/hhs-wrestling-v-big-sky/
LOCATION:Big Sky High School\, 3100 South Avenue W.\, Missoula\, MT\, 59801\, United States
CATEGORIES:Activities,Helena High Activities,Helena High Wrestling
END:VEVENT
BEGIN:VEVENT
DTSTART;TZID=America/Denver:20210115T160000
DTEND;TZID=America/Denver:20210115T180000
DTSTAMP:20260424T031135
CREATED:20201215T004530Z
LAST-MODIFIED:20210107T021415Z
UID:25733-1610726400-1610733600@chs.helenaschools.org
SUMMARY:HHS Wrestling v. Sentinel
DESCRIPTION:
URL:https://chs.helenaschools.org/event/hhs-wrestling-v-sentinel/
LOCATION:Sentinel High School\, 901 South Ave. W.\, Missoula\, MT\, 59801\, United States
CATEGORIES:Activities,Helena High Activities,Helena High Wrestling
END:VEVENT
BEGIN:VEVENT
DTSTART;TZID=America/Denver:20210108T190000
DTEND;TZID=America/Denver:20210108T210000
DTSTAMP:20260424T031135
CREATED:20201215T004529Z
LAST-MODIFIED:20210107T021414Z
UID:25719-1610132400-1610139600@chs.helenaschools.org
SUMMARY:HHS Wrestling v. Butte
DESCRIPTION:JV @ 7pm
URL:https://chs.helenaschools.org/event/hhs-wrestling-v-butte/
LOCATION:Helena High School\, 1300 Billings Ave.\, Helena\, 59601
CATEGORIES:Activities,Helena High Activities,Helena High Wrestling
END:VEVENT
BEGIN:VEVENT
DTSTART;TZID=America/Denver:20210108T160000
DTEND;TZID=America/Denver:20210108T180000
DTSTAMP:20260424T031135
CREATED:20201215T004529Z
LAST-MODIFIED:20210107T021413Z
UID:25717-1610121600-1610128800@chs.helenaschools.org
SUMMARY:HHS Wrestling v. Hellgate
DESCRIPTION:
URL:https://chs.helenaschools.org/event/hhs-wrestling-v-hellgate/
LOCATION:Helena High School\, 1300 Billings Ave.\, Helena\, 59601
CATEGORIES:Activities,Helena High Activities,Helena High Wrestling
END:VEVENT
BEGIN:VEVENT
DTSTART;TZID=America/Denver:20210105T190000
DTEND;TZID=America/Denver:20210105T210000
DTSTAMP:20260424T031135
CREATED:20201215T004528Z
LAST-MODIFIED:20210105T031510Z
UID:25711-1609873200-1609880400@chs.helenaschools.org
SUMMARY:Crosstown Wrestling
DESCRIPTION:JV @ 6pm
URL:https://chs.helenaschools.org/event/crosstown-wrestling-3/
LOCATION:Capital High School\, 100 Valley Dr.\, Helena\, MT\, 59601\, United States
CATEGORIES:Activities,Capital High School Activities,Capital High Wrestling,Helena High Activities,Helena High Wrestling
END:VEVENT
BEGIN:VEVENT
DTSTART;TZID=America/Denver:20201215T190000
DTEND;TZID=America/Denver:20201215T200000
DTSTAMP:20260424T031135
CREATED:20201123T163429Z
LAST-MODIFIED:20201123T163429Z
UID:22778-1608058800-1608062400@chs.helenaschools.org
SUMMARY:Crosstown Wrestling
DESCRIPTION:JV @ 6:00pm
URL:https://chs.helenaschools.org/event/crosstown-wrestling/
LOCATION:Capital High School\, 100 Valley Dr.\, Helena\, MT\, 59601\, United States
CATEGORIES:Activities,Capital High School Activities,Capital High Wrestling,Helena High Activities,Helena High Wrestling
END:VEVENT
BEGIN:VEVENT
DTSTART;VALUE=DATE:20201211
DTEND;VALUE=DATE:20201213
DTSTAMP:20260424T031135
CREATED:20201123T163428Z
LAST-MODIFIED:20201123T163428Z
UID:22771-1607644800-1607817599@chs.helenaschools.org
SUMMARY:CHS Wrestling at Butte Duals
DESCRIPTION:
URL:https://chs.helenaschools.org/event/chs-wrestling-at-butte-duals/
LOCATION:Butte – TBD\, Butte\, MT\, 59701\, United States
CATEGORIES:Activities,Capital High School Activities,Helena High Wrestling
END:VEVENT
END:VCALENDAR