BEGIN:VCALENDAR
VERSION:2.0
PRODID:-// Capital High School - ECPv6.15.20//NONSGML v1.0//EN
CALSCALE:GREGORIAN
METHOD:PUBLISH
X-WR-CALNAME: Capital High School
X-ORIGINAL-URL:https://chs.helenaschools.org
X-WR-CALDESC:Events for  Capital High School
REFRESH-INTERVAL;VALUE=DURATION:PT1H
X-Robots-Tag:noindex
X-PUBLISHED-TTL:PT1H
BEGIN:VTIMEZONE
TZID:America/Denver
BEGIN:DAYLIGHT
TZOFFSETFROM:-0700
TZOFFSETTO:-0600
TZNAME:MDT
DTSTART:20190310T090000
END:DAYLIGHT
BEGIN:STANDARD
TZOFFSETFROM:-0600
TZOFFSETTO:-0700
TZNAME:MST
DTSTART:20191103T080000
END:STANDARD
BEGIN:DAYLIGHT
TZOFFSETFROM:-0700
TZOFFSETTO:-0600
TZNAME:MDT
DTSTART:20200308T090000
END:DAYLIGHT
BEGIN:STANDARD
TZOFFSETFROM:-0600
TZOFFSETTO:-0700
TZNAME:MST
DTSTART:20201101T080000
END:STANDARD
BEGIN:DAYLIGHT
TZOFFSETFROM:-0700
TZOFFSETTO:-0600
TZNAME:MDT
DTSTART:20210314T090000
END:DAYLIGHT
BEGIN:STANDARD
TZOFFSETFROM:-0600
TZOFFSETTO:-0700
TZNAME:MST
DTSTART:20211107T080000
END:STANDARD
END:VTIMEZONE
BEGIN:VEVENT
DTSTART;TZID=America/Denver:20201212T154500
DTEND;TZID=America/Denver:20201212T174500
DTSTAMP:20260422T063431
CREATED:20201123T163429Z
LAST-MODIFIED:20201123T163429Z
UID:22775-1607787900-1607795100@chs.helenaschools.org
SUMMARY:CHS Girls Basketball v. Gallatin
DESCRIPTION:JV @ 2:00pm\nSoph @ 12:30pm\nFrosh @ 11:00am
URL:https://chs.helenaschools.org/event/chs-girls-basketball-v-gallatin/
LOCATION:Capital High School\, 100 Valley Dr.\, Helena\, MT\, 59601\, United States
CATEGORIES:Activities,Capital High Girls Basketball,Capital High School Activities
END:VEVENT
BEGIN:VEVENT
DTSTART;TZID=America/Denver:20201210T191500
DTEND;TZID=America/Denver:20201210T211500
DTSTAMP:20260422T063431
CREATED:20201123T163428Z
LAST-MODIFIED:20201123T163428Z
UID:22768-1607627700-1607634900@chs.helenaschools.org
SUMMARY:CHS Girls Basketball v. Bozeman
DESCRIPTION:JV @ 5:30pm\nSoph @ 4:00pm\nFrosh @ 4:30pm @ Jim Darcy
URL:https://chs.helenaschools.org/event/chs-girls-basketball-v-bozeman/
LOCATION:Capital High School\, 100 Valley Dr.\, Helena\, MT\, 59601\, United States
CATEGORIES:Activities,Capital High Girls Basketball,Capital High School Activities
END:VEVENT
END:VCALENDAR