BEGIN:VCALENDAR
VERSION:2.0
PRODID:-// Capital High School - ECPv6.15.20//NONSGML v1.0//EN
CALSCALE:GREGORIAN
METHOD:PUBLISH
X-WR-CALNAME: Capital High School
X-ORIGINAL-URL:https://chs.helenaschools.org
X-WR-CALDESC:Events for  Capital High School
REFRESH-INTERVAL;VALUE=DURATION:PT1H
X-Robots-Tag:noindex
X-PUBLISHED-TTL:PT1H
BEGIN:VTIMEZONE
TZID:America/Denver
BEGIN:DAYLIGHT
TZOFFSETFROM:-0700
TZOFFSETTO:-0600
TZNAME:MDT
DTSTART:20200308T090000
END:DAYLIGHT
BEGIN:STANDARD
TZOFFSETFROM:-0600
TZOFFSETTO:-0700
TZNAME:MST
DTSTART:20201101T080000
END:STANDARD
BEGIN:DAYLIGHT
TZOFFSETFROM:-0700
TZOFFSETTO:-0600
TZNAME:MDT
DTSTART:20210314T090000
END:DAYLIGHT
BEGIN:STANDARD
TZOFFSETFROM:-0600
TZOFFSETTO:-0700
TZNAME:MST
DTSTART:20211107T080000
END:STANDARD
BEGIN:DAYLIGHT
TZOFFSETFROM:-0700
TZOFFSETTO:-0600
TZNAME:MDT
DTSTART:20220313T090000
END:DAYLIGHT
BEGIN:STANDARD
TZOFFSETFROM:-0600
TZOFFSETTO:-0700
TZNAME:MST
DTSTART:20221106T080000
END:STANDARD
END:VTIMEZONE
BEGIN:VEVENT
DTSTART;TZID=America/Denver:20210112T191500
DTEND;TZID=America/Denver:20210112T211500
DTSTAMP:20260420T221545
CREATED:20201215T004530Z
LAST-MODIFIED:20210107T021415Z
UID:25728-1610478900-1610486100@chs.helenaschools.org
SUMMARY:HHS Girls Basketball v. Sentinel
DESCRIPTION:
URL:https://chs.helenaschools.org/event/hhs-girls-basketball-v-sentinel/
LOCATION:Helena High School\, 1300 Billings Ave.\, Helena\, 59601
CATEGORIES:Activities,Helena High Activities,Helena High Girls Basketball
END:VEVENT
BEGIN:VEVENT
DTSTART;TZID=America/Denver:20210112T191500
DTEND;TZID=America/Denver:20210112T211500
DTSTAMP:20260420T221545
CREATED:20201215T004530Z
LAST-MODIFIED:20210107T021415Z
UID:25729-1610478900-1610486100@chs.helenaschools.org
SUMMARY:CHS Boys Basketball v. Big Sky
DESCRIPTION:
URL:https://chs.helenaschools.org/event/chs-boys-basketball-v-big-sky-3/
LOCATION:Big Sky High School\, 3100 South Avenue W.\, Missoula\, MT\, 59801\, United States
CATEGORIES:Activities,Capital High Boys Basketball,Capital High School Activities
END:VEVENT
BEGIN:VEVENT
DTSTART;TZID=America/Denver:20210112T191500
DTEND;TZID=America/Denver:20210112T211500
DTSTAMP:20260420T221545
CREATED:20201215T004530Z
LAST-MODIFIED:20210107T021415Z
UID:25730-1610478900-1610486100@chs.helenaschools.org
SUMMARY:HHS Boys Basketball v. Sentinel
DESCRIPTION:
URL:https://chs.helenaschools.org/event/hhs-boys-basketball-v-sentinel/
LOCATION:Sentinel High School\, 901 South Ave. W.\, Missoula\, MT\, 59801\, United States
CATEGORIES:Activities,Helena High Activities,Helena High Boys Basketball
END:VEVENT
BEGIN:VEVENT
DTSTART;TZID=America/Denver:20210112T191500
DTEND;TZID=America/Denver:20210112T211500
DTSTAMP:20260420T221545
CREATED:20201123T163432Z
LAST-MODIFIED:20201123T163432Z
UID:22801-1610478900-1610486100@chs.helenaschools.org
SUMMARY:CHS Girls Basketball v. Big Sky
DESCRIPTION:JV @ 5:30pm\nSoph @ 4:00pm\nFrosh @ 4:30pm @ Jim Darcy
URL:https://chs.helenaschools.org/event/chs-girls-basketball-v-big-sky/
LOCATION:Capital High School\, 100 Valley Dr.\, Helena\, MT\, 59601\, United States
CATEGORIES:Activities,Capital High Girls Basketball,Capital High School Activities
END:VEVENT
BEGIN:VEVENT
DTSTART;TZID=America/Denver:20210112T191500
DTEND;TZID=America/Denver:20210112T211500
DTSTAMP:20260420T221545
CREATED:20201123T163432Z
LAST-MODIFIED:20201123T163432Z
UID:22802-1610478900-1610486100@chs.helenaschools.org
SUMMARY:CHS Boys Basketball v. Big Sky
DESCRIPTION:JV @ 5:30pm\nSoph @ 4:00pm\nFrosh @ 4:30pm
URL:https://chs.helenaschools.org/event/chs-boys-basketball-v-big-sky/
LOCATION:Big Sky High School\, 3100 South Avenue W.\, Missoula\, MT\, 59801\, United States
CATEGORIES:Activities,Capital High Boys Basketball,Capital High School Activities
END:VEVENT
BEGIN:VEVENT
DTSTART;TZID=America/Denver:20210112T170000
DTEND;TZID=America/Denver:20210112T210000
DTSTAMP:20260420T221545
CREATED:20201123T163431Z
LAST-MODIFIED:20201123T163431Z
UID:22800-1610470800-1610485200@chs.helenaschools.org
SUMMARY:CHS Wrestling v. Great Falls and CMR
DESCRIPTION:JV @ 5/7pm
URL:https://chs.helenaschools.org/event/chs-wrestling-v-great-falls-and-cmr/
LOCATION:CMR High School\, 228 17th Ave. NW\, Great Falls\, MT\, 59404\, United States
CATEGORIES:Activities,Capital High School Activities,Capital High Wrestling
END:VEVENT
BEGIN:VEVENT
DTSTART;VALUE=DATE:20210111
DTEND;VALUE=DATE:20210117
DTSTAMP:20260420T221545
CREATED:20201215T004529Z
LAST-MODIFIED:20210107T021415Z
UID:25725-1610323200-1610841599@chs.helenaschools.org
SUMMARY:HHS/CHS Swim at Butte Invitational
DESCRIPTION:
URL:https://chs.helenaschools.org/event/hhs-chs-swim-at-butte-invitational/
LOCATION:Virtual\, Helena\, MT\, 59602\, United States
CATEGORIES:Activities,Capital High School Activities,Capital High Swim,Helena High Activities,Helena High Swim
END:VEVENT
BEGIN:VEVENT
DTSTART;TZID=America/Denver:20210109T163000
DTEND;TZID=America/Denver:20210109T183000
DTSTAMP:20260420T221545
CREATED:20201215T004529Z
LAST-MODIFIED:20210107T021414Z
UID:25724-1610209800-1610217000@chs.helenaschools.org
SUMMARY:CHS Girls Basketball v. Hellgate
DESCRIPTION:
URL:https://chs.helenaschools.org/event/chs-girls-basketball-v-hellgate-3/
LOCATION:Hellgate High School\, 925 Gerald Ave.\, Missoula\, MT\, 59801\, United States
CATEGORIES:Activities,Capital High Girls Basketball,Capital High School Activities
END:VEVENT
BEGIN:VEVENT
DTSTART;TZID=America/Denver:20210109T161500
DTEND;TZID=America/Denver:20210109T181500
DTSTAMP:20260420T221545
CREATED:20201123T163431Z
LAST-MODIFIED:20201123T163431Z
UID:22799-1610208900-1610216100@chs.helenaschools.org
SUMMARY:CHS Girls Basketball v. Hellgate
DESCRIPTION:JV @ 2:30pm\nSoph @ 1:00pm\nFrosh @ 1:00pm
URL:https://chs.helenaschools.org/event/chs-girls-basketball-v-hellgate/
LOCATION:Hellgate High School\, 925 Gerald Ave.\, Missoula\, MT\, 59801\, United States
CATEGORIES:Activities,Capital High Girls Basketball,Capital High School Activities
END:VEVENT
BEGIN:VEVENT
DTSTART;TZID=America/Denver:20210109T154500
DTEND;TZID=America/Denver:20210109T174500
DTSTAMP:20260420T221545
CREATED:20201215T004529Z
LAST-MODIFIED:20210107T021414Z
UID:25723-1610207100-1610214300@chs.helenaschools.org
SUMMARY:CHS Boys Basketball v. Hellgate
DESCRIPTION:
URL:https://chs.helenaschools.org/event/chs-boys-basketball-v-hellgate-3/
LOCATION:Capital High School\, 100 Valley Dr.\, Helena\, MT\, 59601\, United States
CATEGORIES:Activities,Capital High Boys Basketball,Capital High School Activities
END:VEVENT
BEGIN:VEVENT
DTSTART;TZID=America/Denver:20210109T154500
DTEND;TZID=America/Denver:20210109T174500
DTSTAMP:20260420T221545
CREATED:20201123T163431Z
LAST-MODIFIED:20201123T163431Z
UID:22798-1610207100-1610214300@chs.helenaschools.org
SUMMARY:CHS Boys Basketball v. Hellgate
DESCRIPTION:JV @ 2:00pm\nSoph @ 12:30pm\nFrosh @ 11:00am
URL:https://chs.helenaschools.org/event/chs-boys-basketball-v-hellgate/
LOCATION:Capital High School\, 100 Valley Dr.\, Helena\, MT\, 59601\, United States
CATEGORIES:Activities,Capital High Boys Basketball,Capital High School Activities
END:VEVENT
BEGIN:VEVENT
DTSTART;TZID=America/Denver:20210109T143000
DTEND;TZID=America/Denver:20210109T163000
DTSTAMP:20260420T221545
CREATED:20201215T004529Z
LAST-MODIFIED:20210107T021414Z
UID:25721-1610202600-1610209800@chs.helenaschools.org
SUMMARY:HHS Girls Basketball v. Butte
DESCRIPTION:JV @ 1pm @ Civic Center\nSoph @ 11:30am @ Butte High\nFrosh @ 10am @ Butte High
URL:https://chs.helenaschools.org/event/hhs-girls-basketball-v-butte/
LOCATION:Civic Center\, 401 S Wyoming Ave.\, Butte\, MT\, 59701\, United States
CATEGORIES:Activities,Helena High Activities,Helena High Girls Basketball
END:VEVENT
BEGIN:VEVENT
DTSTART;TZID=America/Denver:20210109T143000
DTEND;TZID=America/Denver:20210109T163000
DTSTAMP:20260420T221545
CREATED:20201215T004529Z
LAST-MODIFIED:20210107T021414Z
UID:25722-1610202600-1610209800@chs.helenaschools.org
SUMMARY:HHS Boys Basketball v. Butte
DESCRIPTION:JV @ 1pm @ Civic Center\nSoph @ 11:30am @ Butte High\nFrosh @ 10am @ Butte High
URL:https://chs.helenaschools.org/event/hhs-boys-basketball-v-butte/
LOCATION:Civic Center\, 401 S Wyoming Ave.\, Butte\, MT\, 59701\, United States
CATEGORIES:Activities,Helena High Activities,Helena High Boys Basketball
END:VEVENT
BEGIN:VEVENT
DTSTART;TZID=America/Denver:20210109T120000
DTEND;TZID=America/Denver:20210109T160000
DTSTAMP:20260420T221545
CREATED:20210105T021411Z
LAST-MODIFIED:20210107T021414Z
UID:25992-1610193600-1610208000@chs.helenaschools.org
SUMMARY:CHS Swim v. Bozeman
DESCRIPTION:
URL:https://chs.helenaschools.org/event/chs-swim-v-bozeman/
LOCATION:Bozeman – TBD\, Bozeman\, MT\, 59715\, United States
CATEGORIES:Activities,Capital High School Activities,Capital High Swim
END:VEVENT
BEGIN:VEVENT
DTSTART;TZID=America/Denver:20210109T120000
DTEND;TZID=America/Denver:20210109T160000
DTSTAMP:20260420T221545
CREATED:20210105T021411Z
LAST-MODIFIED:20210107T021414Z
UID:25993-1610193600-1610208000@chs.helenaschools.org
SUMMARY:HHS Swim v. Bozeman
DESCRIPTION:
URL:https://chs.helenaschools.org/event/hhs-swim-v-bozeman/
LOCATION:Bozeman – TBD\, Bozeman\, MT\, 59715\, United States
CATEGORIES:Activities,Helena High Activities,Helena High Swim
END:VEVENT
BEGIN:VEVENT
DTSTART;TZID=America/Denver:20210109T090000
DTEND;TZID=America/Denver:20210109T130000
DTSTAMP:20260420T221545
CREATED:20201123T163431Z
LAST-MODIFIED:20201123T163431Z
UID:22797-1610182800-1610197200@chs.helenaschools.org
SUMMARY:CHS JV Wrestling at Bozeman Invitational
DESCRIPTION:
URL:https://chs.helenaschools.org/event/chs-jv-wrestling-at-bozeman-invitational/
LOCATION:Bozeman – TBD\, Bozeman\, MT\, 59715\, United States
CATEGORIES:Activities,Capital High School Activities,Capital High Wrestling
END:VEVENT
BEGIN:VEVENT
DTSTART;TZID=America/Denver:20210108T190000
DTEND;TZID=America/Denver:20210108T210000
DTSTAMP:20260420T221545
CREATED:20201215T004529Z
LAST-MODIFIED:20210107T021414Z
UID:25719-1610132400-1610139600@chs.helenaschools.org
SUMMARY:HHS Wrestling v. Butte
DESCRIPTION:JV @ 7pm
URL:https://chs.helenaschools.org/event/hhs-wrestling-v-butte/
LOCATION:Helena High School\, 1300 Billings Ave.\, Helena\, 59601
CATEGORIES:Activities,Helena High Activities,Helena High Wrestling
END:VEVENT
BEGIN:VEVENT
DTSTART;TZID=America/Denver:20210108T190000
DTEND;TZID=America/Denver:20210108T210000
DTSTAMP:20260420T221545
CREATED:20201215T004529Z
LAST-MODIFIED:20210107T021414Z
UID:25720-1610132400-1610139600@chs.helenaschools.org
SUMMARY:CHS Wrestling v. Hellgate
DESCRIPTION:
URL:https://chs.helenaschools.org/event/chs-wrestling-v-hellgate/
LOCATION:Capital High School\, 100 Valley Dr.\, Helena\, MT\, 59601\, United States
CATEGORIES:Activities,Capital High School Activities,Capital High Wrestling
END:VEVENT
BEGIN:VEVENT
DTSTART;TZID=America/Denver:20210108T160000
DTEND;TZID=America/Denver:20210108T180000
DTSTAMP:20260420T221545
CREATED:20201215T004529Z
LAST-MODIFIED:20210107T021413Z
UID:25717-1610121600-1610128800@chs.helenaschools.org
SUMMARY:HHS Wrestling v. Hellgate
DESCRIPTION:
URL:https://chs.helenaschools.org/event/hhs-wrestling-v-hellgate/
LOCATION:Helena High School\, 1300 Billings Ave.\, Helena\, 59601
CATEGORIES:Activities,Helena High Activities,Helena High Wrestling
END:VEVENT
BEGIN:VEVENT
DTSTART;TZID=America/Denver:20210108T160000
DTEND;TZID=America/Denver:20210108T180000
DTSTAMP:20260420T221545
CREATED:20201215T004529Z
LAST-MODIFIED:20210107T021414Z
UID:25718-1610121600-1610128800@chs.helenaschools.org
SUMMARY:CHS Wrestling v. Butte
DESCRIPTION:JV @ 4pm
URL:https://chs.helenaschools.org/event/chs-wrestling-v-butte/
LOCATION:Capital High School\, 100 Valley Dr.\, Helena\, MT\, 59601\, United States
CATEGORIES:Activities,Capital High School Activities,Capital High Wrestling
END:VEVENT
BEGIN:VEVENT
DTSTART;TZID=America/Denver:20210108T160000
DTEND;TZID=America/Denver:20210108T180000
DTSTAMP:20260420T221545
CREATED:20201123T163431Z
LAST-MODIFIED:20201123T163431Z
UID:22796-1610121600-1610128800@chs.helenaschools.org
SUMMARY:HHS/CHS Swim v. Great Falls
DESCRIPTION:
URL:https://chs.helenaschools.org/event/hhs-chs-swim-v-great-falls/
LOCATION:Great Falls – TBD\, Great Falls\, MT\, 59401\, United States
CATEGORIES:Activities,Capital High Golf,Capital High School Activities,Helena High Activities,Helena High Swim
END:VEVENT
BEGIN:VEVENT
DTSTART;VALUE=DATE:20210108
DTEND;VALUE=DATE:20210110
DTSTAMP:20260420T221545
CREATED:20201123T163431Z
LAST-MODIFIED:20201123T163431Z
UID:22795-1610064000-1610236799@chs.helenaschools.org
SUMMARY:CHS Wrestling at Bozeman Invitational
DESCRIPTION:
URL:https://chs.helenaschools.org/event/chs-wrestling-at-bozeman-invitational/
LOCATION:Bozeman – TBD\, Bozeman\, MT\, 59715\, United States
CATEGORIES:Activities,Capital High School Activities,Capital High Wrestling
END:VEVENT
BEGIN:VEVENT
DTSTART;TZID=America/Denver:20210107T193000
DTEND;TZID=America/Denver:20210107T213000
DTSTAMP:20260420T221545
CREATED:20201215T004529Z
LAST-MODIFIED:20210107T021413Z
UID:25716-1610047800-1610055000@chs.helenaschools.org
SUMMARY:HHS Boys Basketball v. Hellgate
DESCRIPTION:
URL:https://chs.helenaschools.org/event/hhs-boys-basketball-v-hellgate/
LOCATION:Hellgate High School\, 925 Gerald Ave.\, Missoula\, MT\, 59801\, United States
CATEGORIES:Activities,Helena High Activities,Helena High Boys Basketball
END:VEVENT
BEGIN:VEVENT
DTSTART;TZID=America/Denver:20210107T191500
DTEND;TZID=America/Denver:20210107T211500
DTSTAMP:20260420T221545
CREATED:20201215T004528Z
LAST-MODIFIED:20210107T153201Z
UID:25714-1610046900-1610054100@chs.helenaschools.org
SUMMARY:CHS Girls Basketball v. Butte
DESCRIPTION:JV @ 5:30pm\nSoph @ 4pm\nFrosh @ 2:30pm
URL:https://chs.helenaschools.org/event/chs-girls-basketball-v-butte-3/
LOCATION:Capital High School\, 100 Valley Dr.\, Helena\, MT\, 59601\, United States
CATEGORIES:Activities,Capital High Girls Basketball,Capital High School Activities
END:VEVENT
BEGIN:VEVENT
DTSTART;TZID=America/Denver:20210107T191500
DTEND;TZID=America/Denver:20210107T211500
DTSTAMP:20260420T221545
CREATED:20201215T004528Z
LAST-MODIFIED:20210107T021413Z
UID:25715-1610046900-1610054100@chs.helenaschools.org
SUMMARY:HHS Girls Basketball v. Hellgate
DESCRIPTION:
URL:https://chs.helenaschools.org/event/hhs-girls-basketball-v-hellgate/
LOCATION:Helena High School\, 1300 Billings Ave.\, Helena\, 59601
CATEGORIES:Activities,Helena High Activities,Helena High Girls Basketball
END:VEVENT
BEGIN:VEVENT
DTSTART;TZID=America/Denver:20210107T191500
DTEND;TZID=America/Denver:20210107T211500
DTSTAMP:20260420T221545
CREATED:20201123T163431Z
LAST-MODIFIED:20201123T163431Z
UID:22794-1610046900-1610054100@chs.helenaschools.org
SUMMARY:CHS Girls Basketball v. Butte
DESCRIPTION:JV @ 5:30pm\nSoph @ 4:00pm\nFrosh @ 4:30pm @ Jim Darcy
URL:https://chs.helenaschools.org/event/chs-girls-basketball-v-butte/
LOCATION:Capital High School\, 100 Valley Dr.\, Helena\, MT\, 59601\, United States
CATEGORIES:Activities,Capital High Girls Basketball,Capital High School Activities
END:VEVENT
BEGIN:VEVENT
DTSTART;TZID=America/Denver:20210107T190000
DTEND;TZID=America/Denver:20210107T210000
DTSTAMP:20260420T221545
CREATED:20201215T004528Z
LAST-MODIFIED:20210107T153159Z
UID:25713-1610046000-1610053200@chs.helenaschools.org
SUMMARY:CHS Boys Basketball v. Butte
DESCRIPTION:JV @ 5:30pm @ Civic Center\nSoph @ 4pm @ Butte High\nFrosh @ 2:30pm @ Butte High
URL:https://chs.helenaschools.org/event/chs-boys-basketball-v-butte-3/
LOCATION:Civic Center\, 401 S Wyoming Ave.\, Butte\, MT\, 59701\, United States
CATEGORIES:Activities,Capital High Boys Basketball,Capital High School Activities
END:VEVENT
BEGIN:VEVENT
DTSTART;TZID=America/Denver:20210107T190000
DTEND;TZID=America/Denver:20210107T210000
DTSTAMP:20260420T221545
CREATED:20201123T163430Z
LAST-MODIFIED:20201123T163430Z
UID:22793-1610046000-1610053200@chs.helenaschools.org
SUMMARY:CHS Boys Basketball v. Butte
DESCRIPTION:JV @ 5:30pm\nSoph @ 4:00pm\nFrosh @ 4:00pm
URL:https://chs.helenaschools.org/event/chs-boys-basketball-v-butte/
LOCATION:Butte High School\, 401 S Wyoming Ave.\, Butte\, MT\, 59701\, United States
CATEGORIES:Activities,Capital High Boys Basketball,Capital High School Activities
END:VEVENT
BEGIN:VEVENT
DTSTART;TZID=America/Denver:20210105T190000
DTEND;TZID=America/Denver:20210105T210000
DTSTAMP:20260420T221545
CREATED:20201215T004528Z
LAST-MODIFIED:20210105T031510Z
UID:25711-1609873200-1609880400@chs.helenaschools.org
SUMMARY:Crosstown Wrestling
DESCRIPTION:JV @ 6pm
URL:https://chs.helenaschools.org/event/crosstown-wrestling-3/
LOCATION:Capital High School\, 100 Valley Dr.\, Helena\, MT\, 59601\, United States
CATEGORIES:Activities,Capital High School Activities,Capital High Wrestling,Helena High Activities,Helena High Wrestling
END:VEVENT
BEGIN:VEVENT
DTSTART;TZID=America/Denver:20210105T190000
DTEND;TZID=America/Denver:20210105T210000
DTSTAMP:20260420T221545
CREATED:20201123T163430Z
LAST-MODIFIED:20201123T163430Z
UID:22791-1609873200-1609880400@chs.helenaschools.org
SUMMARY:CHS Wrestling v. Hellgate and Butte
DESCRIPTION:
URL:https://chs.helenaschools.org/event/chs-wrestling-v-hellgate-and-butte/
LOCATION:Capital High School\, 100 Valley Dr.\, Helena\, MT\, 59601\, United States
CATEGORIES:Activities,Capital High School Activities,Capital High Wrestling
END:VEVENT
END:VCALENDAR